BEGIN:VCALENDAR
VERSION:2.0
PRODID:-//Kiokee Baptist Church - ECPv6.15.20//NONSGML v1.0//EN
CALSCALE:GREGORIAN
METHOD:PUBLISH
X-ORIGINAL-URL:https://kiokee.org
X-WR-CALDESC:Events for Kiokee Baptist Church
REFRESH-INTERVAL;VALUE=DURATION:PT1H
X-Robots-Tag:noindex
X-PUBLISHED-TTL:PT1H
BEGIN:VTIMEZONE
TZID:America/New_York
BEGIN:DAYLIGHT
TZOFFSETFROM:-0500
TZOFFSETTO:-0400
TZNAME:EDT
DTSTART:20250309T070000
END:DAYLIGHT
BEGIN:STANDARD
TZOFFSETFROM:-0400
TZOFFSETTO:-0500
TZNAME:EST
DTSTART:20251102T060000
END:STANDARD
BEGIN:DAYLIGHT
TZOFFSETFROM:-0500
TZOFFSETTO:-0400
TZNAME:EDT
DTSTART:20260308T070000
END:DAYLIGHT
BEGIN:STANDARD
TZOFFSETFROM:-0400
TZOFFSETTO:-0500
TZNAME:EST
DTSTART:20261101T060000
END:STANDARD
BEGIN:DAYLIGHT
TZOFFSETFROM:-0500
TZOFFSETTO:-0400
TZNAME:EDT
DTSTART:20270314T070000
END:DAYLIGHT
BEGIN:STANDARD
TZOFFSETFROM:-0400
TZOFFSETTO:-0500
TZNAME:EST
DTSTART:20271107T060000
END:STANDARD
END:VTIMEZONE
BEGIN:VEVENT
DTSTART;TZID=America/New_York:20260107T170000
DTEND;TZID=America/New_York:20260107T181500
DTSTAMP:20260420T051410
CREATED:20250514T172046Z
LAST-MODIFIED:20250514T172046Z
UID:13899-1767805200-1767809700@kiokee.org
SUMMARY:Wednesday Night Fellowship Meal
DESCRIPTION:Join us for a meal and time with church family in the Fellowship Hall! \nAdults $6\, Ages 3-11 $3\, Under 3 free!  The maximum charge per family is $20.  Take-outs are not available. \nReservations are requested.  Please call the church office at 706-541-1086 to make your reservation.
URL:https://kiokee.org/past-event/wednesday-night-fellowship-meal-3/
LOCATION:Kiokee Baptist Church Main Campus\, 2520 Ray Owens Rd\, Appling\, GA\, 30802\, United States
CATEGORIES:Church Wide
END:VEVENT
END:VCALENDAR